BEGIN:VCALENDAR
VERSION:2.0
PRODID:-//Winnipeg West End BIZ - ECPv6.15.20//NONSGML v1.0//EN
CALSCALE:GREGORIAN
METHOD:PUBLISH
X-WR-CALNAME:Winnipeg West End BIZ
X-ORIGINAL-URL:https://www.westendbiz.ca
X-WR-CALDESC:Events for Winnipeg West End BIZ
REFRESH-INTERVAL;VALUE=DURATION:PT1H
X-Robots-Tag:noindex
X-PUBLISHED-TTL:PT1H
BEGIN:VTIMEZONE
TZID:America/Winnipeg
BEGIN:DAYLIGHT
TZOFFSETFROM:-0600
TZOFFSETTO:-0500
TZNAME:CDT
DTSTART:20250309T080000
END:DAYLIGHT
BEGIN:STANDARD
TZOFFSETFROM:-0500
TZOFFSETTO:-0600
TZNAME:CST
DTSTART:20251102T070000
END:STANDARD
BEGIN:DAYLIGHT
TZOFFSETFROM:-0600
TZOFFSETTO:-0500
TZNAME:CDT
DTSTART:20260308T080000
END:DAYLIGHT
BEGIN:STANDARD
TZOFFSETFROM:-0500
TZOFFSETTO:-0600
TZNAME:CST
DTSTART:20261101T070000
END:STANDARD
BEGIN:DAYLIGHT
TZOFFSETFROM:-0600
TZOFFSETTO:-0500
TZNAME:CDT
DTSTART:20270314T080000
END:DAYLIGHT
BEGIN:STANDARD
TZOFFSETFROM:-0500
TZOFFSETTO:-0600
TZNAME:CST
DTSTART:20271107T070000
END:STANDARD
END:VTIMEZONE
BEGIN:VEVENT
DTSTART;TZID=America/Winnipeg:20260303T183000
DTEND;TZID=America/Winnipeg:20260303T233000
DTSTAMP:20260423T094955
CREATED:20240412T161439Z
LAST-MODIFIED:20240412T161439Z
UID:10004367-1772562600-1772580600@www.westendbiz.ca
SUMMARY:Free Drinks Tuesday
DESCRIPTION:With Every Ticket Visiting The Cat Room On Tuesday\, You’ll Receive A Free Drink Of Your Choice! \nSchedule Appointment with Cleocatra Cafe (as.me)
URL:https://www.westendbiz.ca/events/free-drinks-tuesday/2026-03-03/
LOCATION:Cleocatra Cafe\, 859 Portage Avenue\,\, Winnipeg\, Manitoba\, R3G 0N8\, Canada
CATEGORIES:Restaurant
ATTACH;FMTTYPE=image/jpeg:https://www.westendbiz.ca/wp-content/uploads/2024/04/cleocatra-cafe.jpg
END:VEVENT
BEGIN:VEVENT
DTSTART;TZID=America/Winnipeg:20260307T120000
DTEND;TZID=America/Winnipeg:20260307T220000
DTSTAMP:20260423T094955
CREATED:20260303T001217Z
LAST-MODIFIED:20260303T001217Z
UID:10005522-1772884800-1772920800@www.westendbiz.ca
SUMMARY:66 Day!
DESCRIPTION:SATURDAY\, MARCH 7 | NOON\nBarn Hammer is celebrating the 66th day of 2026 with special small batches of 66!\nFresh\, tropical\, experimental hazy IPAs will be on tap including: \nJungle Bird 66\nHAZY COCKTAIL IPA \n666\nWILD HAZY IPA \nSuper Saturated 66\nDDH HAZY IPA \nThese small batches will be tapped at noon. Available only until they’re gone!
URL:https://www.westendbiz.ca/events/66-day/
LOCATION:Barn Hammer Brewing Company\, 595 Wall Street\, Winnipeg\, Manitoba\, R3G 2T5\, Canada
CATEGORIES:Restaurant
END:VEVENT
BEGIN:VEVENT
DTSTART;TZID=America/Winnipeg:20260310T183000
DTEND;TZID=America/Winnipeg:20260310T233000
DTSTAMP:20260423T094955
CREATED:20240412T161439Z
LAST-MODIFIED:20240412T161439Z
UID:10004368-1773167400-1773185400@www.westendbiz.ca
SUMMARY:Free Drinks Tuesday
DESCRIPTION:With Every Ticket Visiting The Cat Room On Tuesday\, You’ll Receive A Free Drink Of Your Choice! \nSchedule Appointment with Cleocatra Cafe (as.me)
URL:https://www.westendbiz.ca/events/free-drinks-tuesday/2026-03-10/
LOCATION:Cleocatra Cafe\, 859 Portage Avenue\,\, Winnipeg\, Manitoba\, R3G 0N8\, Canada
CATEGORIES:Restaurant
ATTACH;FMTTYPE=image/jpeg:https://www.westendbiz.ca/wp-content/uploads/2024/04/cleocatra-cafe.jpg
END:VEVENT
BEGIN:VEVENT
DTSTART;TZID=America/Winnipeg:20260317T183000
DTEND;TZID=America/Winnipeg:20260317T233000
DTSTAMP:20260423T094955
CREATED:20240412T161439Z
LAST-MODIFIED:20240412T161439Z
UID:10004369-1773772200-1773790200@www.westendbiz.ca
SUMMARY:Free Drinks Tuesday
DESCRIPTION:With Every Ticket Visiting The Cat Room On Tuesday\, You’ll Receive A Free Drink Of Your Choice! \nSchedule Appointment with Cleocatra Cafe (as.me)
URL:https://www.westendbiz.ca/events/free-drinks-tuesday/2026-03-17/
LOCATION:Cleocatra Cafe\, 859 Portage Avenue\,\, Winnipeg\, Manitoba\, R3G 0N8\, Canada
CATEGORIES:Restaurant
ATTACH;FMTTYPE=image/jpeg:https://www.westendbiz.ca/wp-content/uploads/2024/04/cleocatra-cafe.jpg
END:VEVENT
BEGIN:VEVENT
DTSTART;TZID=America/Winnipeg:20260324T183000
DTEND;TZID=America/Winnipeg:20260324T233000
DTSTAMP:20260423T094955
CREATED:20240412T161439Z
LAST-MODIFIED:20240412T161439Z
UID:10004370-1774377000-1774395000@www.westendbiz.ca
SUMMARY:Free Drinks Tuesday
DESCRIPTION:With Every Ticket Visiting The Cat Room On Tuesday\, You’ll Receive A Free Drink Of Your Choice! \nSchedule Appointment with Cleocatra Cafe (as.me)
URL:https://www.westendbiz.ca/events/free-drinks-tuesday/2026-03-24/
LOCATION:Cleocatra Cafe\, 859 Portage Avenue\,\, Winnipeg\, Manitoba\, R3G 0N8\, Canada
CATEGORIES:Restaurant
ATTACH;FMTTYPE=image/jpeg:https://www.westendbiz.ca/wp-content/uploads/2024/04/cleocatra-cafe.jpg
END:VEVENT
BEGIN:VEVENT
DTSTART;TZID=America/Winnipeg:20260331T183000
DTEND;TZID=America/Winnipeg:20260331T233000
DTSTAMP:20260423T094955
CREATED:20240412T161439Z
LAST-MODIFIED:20240412T161439Z
UID:10004371-1774981800-1774999800@www.westendbiz.ca
SUMMARY:Free Drinks Tuesday
DESCRIPTION:With Every Ticket Visiting The Cat Room On Tuesday\, You’ll Receive A Free Drink Of Your Choice! \nSchedule Appointment with Cleocatra Cafe (as.me)
URL:https://www.westendbiz.ca/events/free-drinks-tuesday/2026-03-31/
LOCATION:Cleocatra Cafe\, 859 Portage Avenue\,\, Winnipeg\, Manitoba\, R3G 0N8\, Canada
CATEGORIES:Restaurant
ATTACH;FMTTYPE=image/jpeg:https://www.westendbiz.ca/wp-content/uploads/2024/04/cleocatra-cafe.jpg
END:VEVENT
END:VCALENDAR