BEGIN:VCALENDAR
VERSION:2.0
PRODID:-//Winnipeg West End BIZ - ECPv6.15.20//NONSGML v1.0//EN
CALSCALE:GREGORIAN
METHOD:PUBLISH
X-ORIGINAL-URL:https://www.westendbiz.ca
X-WR-CALDESC:Events for Winnipeg West End BIZ
REFRESH-INTERVAL;VALUE=DURATION:PT1H
X-Robots-Tag:noindex
X-PUBLISHED-TTL:PT1H
BEGIN:VTIMEZONE
TZID:America/Winnipeg
BEGIN:DAYLIGHT
TZOFFSETFROM:-0600
TZOFFSETTO:-0500
TZNAME:CDT
DTSTART:20230312T080000
END:DAYLIGHT
BEGIN:STANDARD
TZOFFSETFROM:-0500
TZOFFSETTO:-0600
TZNAME:CST
DTSTART:20231105T070000
END:STANDARD
BEGIN:DAYLIGHT
TZOFFSETFROM:-0600
TZOFFSETTO:-0500
TZNAME:CDT
DTSTART:20240310T080000
END:DAYLIGHT
BEGIN:STANDARD
TZOFFSETFROM:-0500
TZOFFSETTO:-0600
TZNAME:CST
DTSTART:20241103T070000
END:STANDARD
BEGIN:DAYLIGHT
TZOFFSETFROM:-0600
TZOFFSETTO:-0500
TZNAME:CDT
DTSTART:20250309T080000
END:DAYLIGHT
BEGIN:STANDARD
TZOFFSETFROM:-0500
TZOFFSETTO:-0600
TZNAME:CST
DTSTART:20251102T070000
END:STANDARD
END:VTIMEZONE
BEGIN:VEVENT
DTSTART;TZID=America/Winnipeg:20240127T200000
DTEND;TZID=America/Winnipeg:20240127T233000
DTSTAMP:20260425T052638
CREATED:20240115T222349Z
LAST-MODIFIED:20240115T222349Z
UID:10003918-1706385600-1706398200@www.westendbiz.ca
SUMMARY:Winterruption 2024
DESCRIPTION:Winterruption presents Waahli \nSat\, Jan 27\, 2024 8:00 PM – 10:30 PM CST. Doors at 7pm \nBulldog Event Centre: 1374 Main Street Winnipeg\, MB R2W 3T8
URL:https://www.westendbiz.ca/events/winterruption-2024-11/
LOCATION:Bulldog Event Centre\, 1374 Main Street\, Winnipeg\, Manitoba\, R2W 3T8\, Canada
ATTACH;FMTTYPE=image/jpeg:https://www.westendbiz.ca/wp-content/uploads/2024/01/Winterruption-10.jpg
END:VEVENT
END:VCALENDAR