BEGIN:VCALENDAR
VERSION:2.0
PRODID:-//Winnipeg West End BIZ - ECPv6.15.20//NONSGML v1.0//EN
CALSCALE:GREGORIAN
METHOD:PUBLISH
X-ORIGINAL-URL:https://www.westendbiz.ca
X-WR-CALDESC:Events for Winnipeg West End BIZ
REFRESH-INTERVAL;VALUE=DURATION:PT1H
X-Robots-Tag:noindex
X-PUBLISHED-TTL:PT1H
BEGIN:VTIMEZONE
TZID:America/Winnipeg
BEGIN:DAYLIGHT
TZOFFSETFROM:-0600
TZOFFSETTO:-0500
TZNAME:CDT
DTSTART:20230312T080000
END:DAYLIGHT
BEGIN:STANDARD
TZOFFSETFROM:-0500
TZOFFSETTO:-0600
TZNAME:CST
DTSTART:20231105T070000
END:STANDARD
BEGIN:DAYLIGHT
TZOFFSETFROM:-0600
TZOFFSETTO:-0500
TZNAME:CDT
DTSTART:20240310T080000
END:DAYLIGHT
BEGIN:STANDARD
TZOFFSETFROM:-0500
TZOFFSETTO:-0600
TZNAME:CST
DTSTART:20241103T070000
END:STANDARD
BEGIN:DAYLIGHT
TZOFFSETFROM:-0600
TZOFFSETTO:-0500
TZNAME:CDT
DTSTART:20250309T080000
END:DAYLIGHT
BEGIN:STANDARD
TZOFFSETFROM:-0500
TZOFFSETTO:-0600
TZNAME:CST
DTSTART:20251102T070000
END:STANDARD
END:VTIMEZONE
BEGIN:VEVENT
DTSTART;TZID=America/Winnipeg:20240214T173000
DTEND;TZID=America/Winnipeg:20240214T233000
DTSTAMP:20260425T055011
CREATED:20240207T161247Z
LAST-MODIFIED:20240207T162413Z
UID:10004126-1707931800-1707953400@www.westendbiz.ca
SUMMARY:Feast Cafe Bistro - Love In Every Bite
DESCRIPTION:This Valentine’s Day\, indulge in a feast for the senses with our 6-course Indigenous inspired tasting menu. Savor each carefully-crafted dish with perfectly matched wine pairings (optional) for every course. \nCelebrate your love with an unforgettable evening\, Wednesday\, February 14\, 2024. Two seating’s available 5:30pm and 8pm. Book your table and be entered to win a gift pack. One winner will be drawn at each seating. \nBook your table : 204-691-5979\nor reservations@fesastcafebistro.com
URL:https://www.westendbiz.ca/events/feast-cafe-bistro-love-in-every-bite/
LOCATION:Feast Cafe Bistro\, 587 Ellice Ave\, Winnipeg\, Manitoba\, R3B 17Z\, Canada
CATEGORIES:Restaurant
ATTACH;FMTTYPE=image/png:https://www.westendbiz.ca/wp-content/uploads/2024/02/feast-cafe-bistro-2-14-24.png
END:VEVENT
END:VCALENDAR