BEGIN:VCALENDAR
VERSION:2.0
PRODID:-//Winnipeg West End BIZ - ECPv6.15.20//NONSGML v1.0//EN
CALSCALE:GREGORIAN
METHOD:PUBLISH
X-ORIGINAL-URL:https://www.westendbiz.ca
X-WR-CALDESC:Events for Winnipeg West End BIZ
REFRESH-INTERVAL;VALUE=DURATION:PT1H
X-Robots-Tag:noindex
X-PUBLISHED-TTL:PT1H
BEGIN:VTIMEZONE
TZID:America/Winnipeg
BEGIN:DAYLIGHT
TZOFFSETFROM:-0600
TZOFFSETTO:-0500
TZNAME:CDT
DTSTART:20230312T080000
END:DAYLIGHT
BEGIN:STANDARD
TZOFFSETFROM:-0500
TZOFFSETTO:-0600
TZNAME:CST
DTSTART:20231105T070000
END:STANDARD
BEGIN:DAYLIGHT
TZOFFSETFROM:-0600
TZOFFSETTO:-0500
TZNAME:CDT
DTSTART:20240310T080000
END:DAYLIGHT
BEGIN:STANDARD
TZOFFSETFROM:-0500
TZOFFSETTO:-0600
TZNAME:CST
DTSTART:20241103T070000
END:STANDARD
BEGIN:DAYLIGHT
TZOFFSETFROM:-0600
TZOFFSETTO:-0500
TZNAME:CDT
DTSTART:20250309T080000
END:DAYLIGHT
BEGIN:STANDARD
TZOFFSETFROM:-0500
TZOFFSETTO:-0600
TZNAME:CST
DTSTART:20251102T070000
END:STANDARD
END:VTIMEZONE
BEGIN:VEVENT
DTSTART;TZID=America/Winnipeg:20240409T123000
DTEND;TZID=America/Winnipeg:20240409T153000
DTSTAMP:20260425T055015
CREATED:20240207T172855Z
LAST-MODIFIED:20240207T172855Z
UID:10004129-1712665800-1712676600@www.westendbiz.ca
SUMMARY:Manitoba Craft Council - Book Makers Gathering
DESCRIPTION:Meet with Manitoban book makers for an informal monthly gathering the 2nd Tuesday afternoon of the month from 12:30-3:30pm. ⁠\n⁠\nThe next session will be Tuesday\, February 16th.⁠\n⁠\nThis is a hybrid gathering held in-person at the C2 Centre for Craft and via zoom. All members of the Manitoba Craft Council are welcome to participate. Free registration is open until Sunday February 11th. ⁠ \nRegister Now:\n@Manitoba.Craft.Council | Linktree
URL:https://www.westendbiz.ca/events/manitoba-craft-council-book-makers-gathering/2024-04-09/
LOCATION:Manitoba Craft Council\, 329 Cumberland Ave #1\, Winnipeg\, Manitoba\, R3B 1T2\, Canada
ATTACH;FMTTYPE=image/png:https://www.westendbiz.ca/wp-content/uploads/2024/02/manitoba-craft-council-2-13-24.png
END:VEVENT
BEGIN:VEVENT
DTSTART;TZID=America/Winnipeg:20240312T123000
DTEND;TZID=America/Winnipeg:20240312T153000
DTSTAMP:20260425T055015
CREATED:20240207T172855Z
LAST-MODIFIED:20240207T172855Z
UID:10004128-1710246600-1710257400@www.westendbiz.ca
SUMMARY:Manitoba Craft Council - Book Makers Gathering
DESCRIPTION:Meet with Manitoban book makers for an informal monthly gathering the 2nd Tuesday afternoon of the month from 12:30-3:30pm. ⁠\n⁠\nThe next session will be Tuesday\, February 16th.⁠\n⁠\nThis is a hybrid gathering held in-person at the C2 Centre for Craft and via zoom. All members of the Manitoba Craft Council are welcome to participate. Free registration is open until Sunday February 11th. ⁠ \nRegister Now:\n@Manitoba.Craft.Council | Linktree
URL:https://www.westendbiz.ca/events/manitoba-craft-council-book-makers-gathering/2024-03-12/
LOCATION:Manitoba Craft Council\, 329 Cumberland Ave #1\, Winnipeg\, Manitoba\, R3B 1T2\, Canada
ATTACH;FMTTYPE=image/png:https://www.westendbiz.ca/wp-content/uploads/2024/02/manitoba-craft-council-2-13-24.png
END:VEVENT
BEGIN:VEVENT
DTSTART;TZID=America/Winnipeg:20240213T123000
DTEND;TZID=America/Winnipeg:20240213T153000
DTSTAMP:20260425T055015
CREATED:20240207T172855Z
LAST-MODIFIED:20240207T172855Z
UID:10004127-1707827400-1707838200@www.westendbiz.ca
SUMMARY:Manitoba Craft Council - Book Makers Gathering
DESCRIPTION:Meet with Manitoban book makers for an informal monthly gathering the 2nd Tuesday afternoon of the month from 12:30-3:30pm. ⁠\n⁠\nThe next session will be Tuesday\, February 16th.⁠\n⁠\nThis is a hybrid gathering held in-person at the C2 Centre for Craft and via zoom. All members of the Manitoba Craft Council are welcome to participate. Free registration is open until Sunday February 11th. ⁠ \nRegister Now:\n@Manitoba.Craft.Council | Linktree
URL:https://www.westendbiz.ca/events/manitoba-craft-council-book-makers-gathering/2024-02-13/
LOCATION:Manitoba Craft Council\, 329 Cumberland Ave #1\, Winnipeg\, Manitoba\, R3B 1T2\, Canada
ATTACH;FMTTYPE=image/png:https://www.westendbiz.ca/wp-content/uploads/2024/02/manitoba-craft-council-2-13-24.png
END:VEVENT
END:VCALENDAR