BEGIN:VCALENDAR
VERSION:2.0
PRODID:-//Winnipeg West End BIZ - ECPv6.15.20//NONSGML v1.0//EN
CALSCALE:GREGORIAN
METHOD:PUBLISH
X-WR-CALNAME:Winnipeg West End BIZ
X-ORIGINAL-URL:https://www.westendbiz.ca
X-WR-CALDESC:Events for Winnipeg West End BIZ
REFRESH-INTERVAL;VALUE=DURATION:PT1H
X-Robots-Tag:noindex
X-PUBLISHED-TTL:PT1H
BEGIN:VTIMEZONE
TZID:America/Winnipeg
BEGIN:DAYLIGHT
TZOFFSETFROM:-0600
TZOFFSETTO:-0500
TZNAME:CDT
DTSTART:20230312T080000
END:DAYLIGHT
BEGIN:STANDARD
TZOFFSETFROM:-0500
TZOFFSETTO:-0600
TZNAME:CST
DTSTART:20231105T070000
END:STANDARD
BEGIN:DAYLIGHT
TZOFFSETFROM:-0600
TZOFFSETTO:-0500
TZNAME:CDT
DTSTART:20240310T080000
END:DAYLIGHT
BEGIN:STANDARD
TZOFFSETFROM:-0500
TZOFFSETTO:-0600
TZNAME:CST
DTSTART:20241103T070000
END:STANDARD
BEGIN:DAYLIGHT
TZOFFSETFROM:-0600
TZOFFSETTO:-0500
TZNAME:CDT
DTSTART:20250309T080000
END:DAYLIGHT
BEGIN:STANDARD
TZOFFSETFROM:-0500
TZOFFSETTO:-0600
TZNAME:CST
DTSTART:20251102T070000
END:STANDARD
END:VTIMEZONE
BEGIN:VEVENT
DTSTART;TZID=America/Winnipeg:20240817T180000
DTEND;TZID=America/Winnipeg:20240817T230000
DTSTAMP:20260424T191740
CREATED:20240730T152605Z
LAST-MODIFIED:20240730T152605Z
UID:10004883-1723917600-1723935600@www.westendbiz.ca
SUMMARY:Folklorama - Pavilion of Portugal
DESCRIPTION:BEM-VINDO! \nAt the Pavilion of Portugal you’ll enjoy the unique music and lively traditional dances of the Portuguese culture. Be sure to treat yourself to our satisfying selection of seafood including octopus\, cod\, and shrimp. Other favourites include chouriço sausage and bifanas (savoury pork on a bun). You’ll also want to try a cold Sumol (a popular sparkling fruit beverage). We’ll be waiting to greet you! \nCost: $7.50 per ticket (plus applicable service fee).\nTICKETS Folklorama – Pavilion of Portugal \n\nSHOW TIMES\n\n\n\n\nSUN\n\n\n6:45pm\n\n\n8:15pm\n\n\n9:45pm\n\n\n\n\n\nMON\n\n\n6:45pm\n\n\n8:15pm\n\n\n9:45pm\n\n\n\n\n\nTUE\n\n\n6:45pm\n\n\n8:15pm\n\n\n9:45pm\n\n\n\n\n\nWED\n\n\n6:45pm\n\n\n8:15pm\n\n\n9:45pm\n\n\n\n\n\nTHU\n\n\n6:45pm\n\n\n8:15pm\n\n\n9:45pm\n\n\n\n\n\nFRI\n\n\n6:45pm\n\n\n8:15pm\n\n\n9:45pm\n\n\n11:00pm\n\n\n\n\nSAT\n\n\n6:45pm\n\n\n8:15pm\n\n\n9:45pm
URL:https://www.westendbiz.ca/events/folklorama-pavilion-of-portugal/2024-08-17/
LOCATION:Portugese Association of Manitoba Inc\, 659 Young St\, Winnipeg\, Manitoba\, R3B1S3\, Canada
CATEGORIES:Special Tours
END:VEVENT
BEGIN:VEVENT
DTSTART;TZID=America/Winnipeg:20240816T180000
DTEND;TZID=America/Winnipeg:20240816T230000
DTSTAMP:20260424T191740
CREATED:20240730T152605Z
LAST-MODIFIED:20240730T152605Z
UID:10004882-1723831200-1723849200@www.westendbiz.ca
SUMMARY:Folklorama - Pavilion of Portugal
DESCRIPTION:BEM-VINDO! \nAt the Pavilion of Portugal you’ll enjoy the unique music and lively traditional dances of the Portuguese culture. Be sure to treat yourself to our satisfying selection of seafood including octopus\, cod\, and shrimp. Other favourites include chouriço sausage and bifanas (savoury pork on a bun). You’ll also want to try a cold Sumol (a popular sparkling fruit beverage). We’ll be waiting to greet you! \nCost: $7.50 per ticket (plus applicable service fee).\nTICKETS Folklorama – Pavilion of Portugal \n\nSHOW TIMES\n\n\n\n\nSUN\n\n\n6:45pm\n\n\n8:15pm\n\n\n9:45pm\n\n\n\n\n\nMON\n\n\n6:45pm\n\n\n8:15pm\n\n\n9:45pm\n\n\n\n\n\nTUE\n\n\n6:45pm\n\n\n8:15pm\n\n\n9:45pm\n\n\n\n\n\nWED\n\n\n6:45pm\n\n\n8:15pm\n\n\n9:45pm\n\n\n\n\n\nTHU\n\n\n6:45pm\n\n\n8:15pm\n\n\n9:45pm\n\n\n\n\n\nFRI\n\n\n6:45pm\n\n\n8:15pm\n\n\n9:45pm\n\n\n11:00pm\n\n\n\n\nSAT\n\n\n6:45pm\n\n\n8:15pm\n\n\n9:45pm
URL:https://www.westendbiz.ca/events/folklorama-pavilion-of-portugal/2024-08-16/
LOCATION:Portugese Association of Manitoba Inc\, 659 Young St\, Winnipeg\, Manitoba\, R3B1S3\, Canada
CATEGORIES:Special Tours
END:VEVENT
BEGIN:VEVENT
DTSTART;TZID=America/Winnipeg:20240815T180000
DTEND;TZID=America/Winnipeg:20240815T230000
DTSTAMP:20260424T191740
CREATED:20240730T152605Z
LAST-MODIFIED:20240730T152605Z
UID:10004881-1723744800-1723762800@www.westendbiz.ca
SUMMARY:Folklorama - Pavilion of Portugal
DESCRIPTION:BEM-VINDO! \nAt the Pavilion of Portugal you’ll enjoy the unique music and lively traditional dances of the Portuguese culture. Be sure to treat yourself to our satisfying selection of seafood including octopus\, cod\, and shrimp. Other favourites include chouriço sausage and bifanas (savoury pork on a bun). You’ll also want to try a cold Sumol (a popular sparkling fruit beverage). We’ll be waiting to greet you! \nCost: $7.50 per ticket (plus applicable service fee).\nTICKETS Folklorama – Pavilion of Portugal \n\nSHOW TIMES\n\n\n\n\nSUN\n\n\n6:45pm\n\n\n8:15pm\n\n\n9:45pm\n\n\n\n\n\nMON\n\n\n6:45pm\n\n\n8:15pm\n\n\n9:45pm\n\n\n\n\n\nTUE\n\n\n6:45pm\n\n\n8:15pm\n\n\n9:45pm\n\n\n\n\n\nWED\n\n\n6:45pm\n\n\n8:15pm\n\n\n9:45pm\n\n\n\n\n\nTHU\n\n\n6:45pm\n\n\n8:15pm\n\n\n9:45pm\n\n\n\n\n\nFRI\n\n\n6:45pm\n\n\n8:15pm\n\n\n9:45pm\n\n\n11:00pm\n\n\n\n\nSAT\n\n\n6:45pm\n\n\n8:15pm\n\n\n9:45pm
URL:https://www.westendbiz.ca/events/folklorama-pavilion-of-portugal/2024-08-15/
LOCATION:Portugese Association of Manitoba Inc\, 659 Young St\, Winnipeg\, Manitoba\, R3B1S3\, Canada
CATEGORIES:Special Tours
END:VEVENT
BEGIN:VEVENT
DTSTART;TZID=America/Winnipeg:20240814T180000
DTEND;TZID=America/Winnipeg:20240814T230000
DTSTAMP:20260424T191740
CREATED:20240730T152605Z
LAST-MODIFIED:20240730T152605Z
UID:10004880-1723658400-1723676400@www.westendbiz.ca
SUMMARY:Folklorama - Pavilion of Portugal
DESCRIPTION:BEM-VINDO! \nAt the Pavilion of Portugal you’ll enjoy the unique music and lively traditional dances of the Portuguese culture. Be sure to treat yourself to our satisfying selection of seafood including octopus\, cod\, and shrimp. Other favourites include chouriço sausage and bifanas (savoury pork on a bun). You’ll also want to try a cold Sumol (a popular sparkling fruit beverage). We’ll be waiting to greet you! \nCost: $7.50 per ticket (plus applicable service fee).\nTICKETS Folklorama – Pavilion of Portugal \n\nSHOW TIMES\n\n\n\n\nSUN\n\n\n6:45pm\n\n\n8:15pm\n\n\n9:45pm\n\n\n\n\n\nMON\n\n\n6:45pm\n\n\n8:15pm\n\n\n9:45pm\n\n\n\n\n\nTUE\n\n\n6:45pm\n\n\n8:15pm\n\n\n9:45pm\n\n\n\n\n\nWED\n\n\n6:45pm\n\n\n8:15pm\n\n\n9:45pm\n\n\n\n\n\nTHU\n\n\n6:45pm\n\n\n8:15pm\n\n\n9:45pm\n\n\n\n\n\nFRI\n\n\n6:45pm\n\n\n8:15pm\n\n\n9:45pm\n\n\n11:00pm\n\n\n\n\nSAT\n\n\n6:45pm\n\n\n8:15pm\n\n\n9:45pm
URL:https://www.westendbiz.ca/events/folklorama-pavilion-of-portugal/2024-08-14/
LOCATION:Portugese Association of Manitoba Inc\, 659 Young St\, Winnipeg\, Manitoba\, R3B1S3\, Canada
CATEGORIES:Special Tours
END:VEVENT
BEGIN:VEVENT
DTSTART;TZID=America/Winnipeg:20240813T180000
DTEND;TZID=America/Winnipeg:20240813T230000
DTSTAMP:20260424T191740
CREATED:20240730T152605Z
LAST-MODIFIED:20240730T152605Z
UID:10004879-1723572000-1723590000@www.westendbiz.ca
SUMMARY:Folklorama - Pavilion of Portugal
DESCRIPTION:BEM-VINDO! \nAt the Pavilion of Portugal you’ll enjoy the unique music and lively traditional dances of the Portuguese culture. Be sure to treat yourself to our satisfying selection of seafood including octopus\, cod\, and shrimp. Other favourites include chouriço sausage and bifanas (savoury pork on a bun). You’ll also want to try a cold Sumol (a popular sparkling fruit beverage). We’ll be waiting to greet you! \nCost: $7.50 per ticket (plus applicable service fee).\nTICKETS Folklorama – Pavilion of Portugal \n\nSHOW TIMES\n\n\n\n\nSUN\n\n\n6:45pm\n\n\n8:15pm\n\n\n9:45pm\n\n\n\n\n\nMON\n\n\n6:45pm\n\n\n8:15pm\n\n\n9:45pm\n\n\n\n\n\nTUE\n\n\n6:45pm\n\n\n8:15pm\n\n\n9:45pm\n\n\n\n\n\nWED\n\n\n6:45pm\n\n\n8:15pm\n\n\n9:45pm\n\n\n\n\n\nTHU\n\n\n6:45pm\n\n\n8:15pm\n\n\n9:45pm\n\n\n\n\n\nFRI\n\n\n6:45pm\n\n\n8:15pm\n\n\n9:45pm\n\n\n11:00pm\n\n\n\n\nSAT\n\n\n6:45pm\n\n\n8:15pm\n\n\n9:45pm
URL:https://www.westendbiz.ca/events/folklorama-pavilion-of-portugal/2024-08-13/
LOCATION:Portugese Association of Manitoba Inc\, 659 Young St\, Winnipeg\, Manitoba\, R3B1S3\, Canada
CATEGORIES:Special Tours
END:VEVENT
BEGIN:VEVENT
DTSTART;TZID=America/Winnipeg:20240812T180000
DTEND;TZID=America/Winnipeg:20240812T230000
DTSTAMP:20260424T191740
CREATED:20240730T152605Z
LAST-MODIFIED:20240730T152605Z
UID:10004878-1723485600-1723503600@www.westendbiz.ca
SUMMARY:Folklorama - Pavilion of Portugal
DESCRIPTION:BEM-VINDO! \nAt the Pavilion of Portugal you’ll enjoy the unique music and lively traditional dances of the Portuguese culture. Be sure to treat yourself to our satisfying selection of seafood including octopus\, cod\, and shrimp. Other favourites include chouriço sausage and bifanas (savoury pork on a bun). You’ll also want to try a cold Sumol (a popular sparkling fruit beverage). We’ll be waiting to greet you! \nCost: $7.50 per ticket (plus applicable service fee).\nTICKETS Folklorama – Pavilion of Portugal \n\nSHOW TIMES\n\n\n\n\nSUN\n\n\n6:45pm\n\n\n8:15pm\n\n\n9:45pm\n\n\n\n\n\nMON\n\n\n6:45pm\n\n\n8:15pm\n\n\n9:45pm\n\n\n\n\n\nTUE\n\n\n6:45pm\n\n\n8:15pm\n\n\n9:45pm\n\n\n\n\n\nWED\n\n\n6:45pm\n\n\n8:15pm\n\n\n9:45pm\n\n\n\n\n\nTHU\n\n\n6:45pm\n\n\n8:15pm\n\n\n9:45pm\n\n\n\n\n\nFRI\n\n\n6:45pm\n\n\n8:15pm\n\n\n9:45pm\n\n\n11:00pm\n\n\n\n\nSAT\n\n\n6:45pm\n\n\n8:15pm\n\n\n9:45pm
URL:https://www.westendbiz.ca/events/folklorama-pavilion-of-portugal/2024-08-12/
LOCATION:Portugese Association of Manitoba Inc\, 659 Young St\, Winnipeg\, Manitoba\, R3B1S3\, Canada
CATEGORIES:Special Tours
END:VEVENT
BEGIN:VEVENT
DTSTART;TZID=America/Winnipeg:20240811T180000
DTEND;TZID=America/Winnipeg:20240811T230000
DTSTAMP:20260424T191740
CREATED:20240730T152605Z
LAST-MODIFIED:20240730T152605Z
UID:10004877-1723399200-1723417200@www.westendbiz.ca
SUMMARY:Folklorama - Pavilion of Portugal
DESCRIPTION:BEM-VINDO! \nAt the Pavilion of Portugal you’ll enjoy the unique music and lively traditional dances of the Portuguese culture. Be sure to treat yourself to our satisfying selection of seafood including octopus\, cod\, and shrimp. Other favourites include chouriço sausage and bifanas (savoury pork on a bun). You’ll also want to try a cold Sumol (a popular sparkling fruit beverage). We’ll be waiting to greet you! \nCost: $7.50 per ticket (plus applicable service fee).\nTICKETS Folklorama – Pavilion of Portugal \n\nSHOW TIMES\n\n\n\n\nSUN\n\n\n6:45pm\n\n\n8:15pm\n\n\n9:45pm\n\n\n\n\n\nMON\n\n\n6:45pm\n\n\n8:15pm\n\n\n9:45pm\n\n\n\n\n\nTUE\n\n\n6:45pm\n\n\n8:15pm\n\n\n9:45pm\n\n\n\n\n\nWED\n\n\n6:45pm\n\n\n8:15pm\n\n\n9:45pm\n\n\n\n\n\nTHU\n\n\n6:45pm\n\n\n8:15pm\n\n\n9:45pm\n\n\n\n\n\nFRI\n\n\n6:45pm\n\n\n8:15pm\n\n\n9:45pm\n\n\n11:00pm\n\n\n\n\nSAT\n\n\n6:45pm\n\n\n8:15pm\n\n\n9:45pm
URL:https://www.westendbiz.ca/events/folklorama-pavilion-of-portugal/2024-08-11/
LOCATION:Portugese Association of Manitoba Inc\, 659 Young St\, Winnipeg\, Manitoba\, R3B1S3\, Canada
CATEGORIES:Special Tours
END:VEVENT
END:VCALENDAR