BEGIN:VCALENDAR
VERSION:2.0
PRODID:-//Winnipeg West End BIZ - ECPv6.15.20//NONSGML v1.0//EN
CALSCALE:GREGORIAN
METHOD:PUBLISH
X-WR-CALNAME:Winnipeg West End BIZ
X-ORIGINAL-URL:https://www.westendbiz.ca
X-WR-CALDESC:Events for Winnipeg West End BIZ
REFRESH-INTERVAL;VALUE=DURATION:PT1H
X-Robots-Tag:noindex
X-PUBLISHED-TTL:PT1H
BEGIN:VTIMEZONE
TZID:America/Winnipeg
BEGIN:DAYLIGHT
TZOFFSETFROM:-0600
TZOFFSETTO:-0500
TZNAME:CDT
DTSTART:20230312T080000
END:DAYLIGHT
BEGIN:STANDARD
TZOFFSETFROM:-0500
TZOFFSETTO:-0600
TZNAME:CST
DTSTART:20231105T070000
END:STANDARD
BEGIN:DAYLIGHT
TZOFFSETFROM:-0600
TZOFFSETTO:-0500
TZNAME:CDT
DTSTART:20240310T080000
END:DAYLIGHT
BEGIN:STANDARD
TZOFFSETFROM:-0500
TZOFFSETTO:-0600
TZNAME:CST
DTSTART:20241103T070000
END:STANDARD
BEGIN:DAYLIGHT
TZOFFSETFROM:-0600
TZOFFSETTO:-0500
TZNAME:CDT
DTSTART:20250309T080000
END:DAYLIGHT
BEGIN:STANDARD
TZOFFSETFROM:-0500
TZOFFSETTO:-0600
TZNAME:CST
DTSTART:20251102T070000
END:STANDARD
END:VTIMEZONE
BEGIN:VEVENT
DTSTART;TZID=America/Winnipeg:20240809T180000
DTEND;TZID=America/Winnipeg:20240809T230000
DTSTAMP:20260424T190517
CREATED:20240730T160221Z
LAST-MODIFIED:20240730T160223Z
UID:10005260-1723226400-1723244400@www.westendbiz.ca
SUMMARY:Folklorama - Scandinavian Pavilion
DESCRIPTION:VELKOMMEN\, VALKOMMEN\, VELKOMIN\, TERVETULOA! \nThe Vikings are coming! The Vikings are coming! Join us for a rollicking good time as we welcome our favourite ancestors to the stage and throughout the Pavilion. Everything you wanted to know about Vikings but were afraid to ask will be revealed in our cultural display. The usual sweet and savoury favourites from our kitchen will be available to tempt your palate. Embrace your inner Viking and join us at the Scandinavian Pavilion! \nCost: $7.50 per ticket (plus applicable service fee)\nTICKETS Folklorama – Scandinavian Pavilion \n\nSHOW TIMES \n\n\n\n\nSUN\n\n\n6:45pm\n\n\n8:15pm\n\n\n\n\n\nMON\n\n\n6:45pm\n\n\n8:15pm\n\n\n\n\n\nTUE\n\n\n6:45pm\n\n\n8:15pm\n\n\n9:45pm\n\n\n\n\nWED\n\n\n6:45pm\n\n\n8:15pm\n\n\n9:45pm\n\n\n\n\nTHU\n\n\n6:45pm\n\n\n8:15pm\n\n\n9:45pm\n\n\n\n\nFRI\n\n\n6:45pm\n\n\n8:15pm\n\n\n9:45pm\n\n\n\n\nSAT\n\n\n6:45pm\n\n\n8:15pm\n\n\n9:45pm
URL:https://www.westendbiz.ca/events/folklorama-scandinavian-pavilion-2/2024-08-09/
LOCATION:Scandinavian Cultural Centre\, 764 Erin Street\, Winnipeg\, Manitoba\, R3G 2W4\, Canada
CATEGORIES:Special Tours
ATTACH;FMTTYPE=image/png:https://www.westendbiz.ca/wp-content/uploads/2024/07/Scandinavian-Pavilion-800x600-2.png
END:VEVENT
BEGIN:VEVENT
DTSTART;TZID=America/Winnipeg:20240808T180000
DTEND;TZID=America/Winnipeg:20240808T230000
DTSTAMP:20260424T190517
CREATED:20240730T160221Z
LAST-MODIFIED:20240730T160223Z
UID:10005259-1723140000-1723158000@www.westendbiz.ca
SUMMARY:Folklorama - Scandinavian Pavilion
DESCRIPTION:VELKOMMEN\, VALKOMMEN\, VELKOMIN\, TERVETULOA! \nThe Vikings are coming! The Vikings are coming! Join us for a rollicking good time as we welcome our favourite ancestors to the stage and throughout the Pavilion. Everything you wanted to know about Vikings but were afraid to ask will be revealed in our cultural display. The usual sweet and savoury favourites from our kitchen will be available to tempt your palate. Embrace your inner Viking and join us at the Scandinavian Pavilion! \nCost: $7.50 per ticket (plus applicable service fee)\nTICKETS Folklorama – Scandinavian Pavilion \n\nSHOW TIMES \n\n\n\n\nSUN\n\n\n6:45pm\n\n\n8:15pm\n\n\n\n\n\nMON\n\n\n6:45pm\n\n\n8:15pm\n\n\n\n\n\nTUE\n\n\n6:45pm\n\n\n8:15pm\n\n\n9:45pm\n\n\n\n\nWED\n\n\n6:45pm\n\n\n8:15pm\n\n\n9:45pm\n\n\n\n\nTHU\n\n\n6:45pm\n\n\n8:15pm\n\n\n9:45pm\n\n\n\n\nFRI\n\n\n6:45pm\n\n\n8:15pm\n\n\n9:45pm\n\n\n\n\nSAT\n\n\n6:45pm\n\n\n8:15pm\n\n\n9:45pm
URL:https://www.westendbiz.ca/events/folklorama-scandinavian-pavilion-2/2024-08-08/
LOCATION:Scandinavian Cultural Centre\, 764 Erin Street\, Winnipeg\, Manitoba\, R3G 2W4\, Canada
CATEGORIES:Special Tours
ATTACH;FMTTYPE=image/png:https://www.westendbiz.ca/wp-content/uploads/2024/07/Scandinavian-Pavilion-800x600-2.png
END:VEVENT
BEGIN:VEVENT
DTSTART;TZID=America/Winnipeg:20240807T180000
DTEND;TZID=America/Winnipeg:20240807T230000
DTSTAMP:20260424T190517
CREATED:20240730T160221Z
LAST-MODIFIED:20240730T160223Z
UID:10005258-1723053600-1723071600@www.westendbiz.ca
SUMMARY:Folklorama - Scandinavian Pavilion
DESCRIPTION:VELKOMMEN\, VALKOMMEN\, VELKOMIN\, TERVETULOA! \nThe Vikings are coming! The Vikings are coming! Join us for a rollicking good time as we welcome our favourite ancestors to the stage and throughout the Pavilion. Everything you wanted to know about Vikings but were afraid to ask will be revealed in our cultural display. The usual sweet and savoury favourites from our kitchen will be available to tempt your palate. Embrace your inner Viking and join us at the Scandinavian Pavilion! \nCost: $7.50 per ticket (plus applicable service fee)\nTICKETS Folklorama – Scandinavian Pavilion \n\nSHOW TIMES \n\n\n\n\nSUN\n\n\n6:45pm\n\n\n8:15pm\n\n\n\n\n\nMON\n\n\n6:45pm\n\n\n8:15pm\n\n\n\n\n\nTUE\n\n\n6:45pm\n\n\n8:15pm\n\n\n9:45pm\n\n\n\n\nWED\n\n\n6:45pm\n\n\n8:15pm\n\n\n9:45pm\n\n\n\n\nTHU\n\n\n6:45pm\n\n\n8:15pm\n\n\n9:45pm\n\n\n\n\nFRI\n\n\n6:45pm\n\n\n8:15pm\n\n\n9:45pm\n\n\n\n\nSAT\n\n\n6:45pm\n\n\n8:15pm\n\n\n9:45pm
URL:https://www.westendbiz.ca/events/folklorama-scandinavian-pavilion-2/2024-08-07/
LOCATION:Scandinavian Cultural Centre\, 764 Erin Street\, Winnipeg\, Manitoba\, R3G 2W4\, Canada
CATEGORIES:Special Tours
ATTACH;FMTTYPE=image/png:https://www.westendbiz.ca/wp-content/uploads/2024/07/Scandinavian-Pavilion-800x600-2.png
END:VEVENT
BEGIN:VEVENT
DTSTART;TZID=America/Winnipeg:20240806T180000
DTEND;TZID=America/Winnipeg:20240806T230000
DTSTAMP:20260424T190517
CREATED:20240730T160221Z
LAST-MODIFIED:20240730T160223Z
UID:10005257-1722967200-1722985200@www.westendbiz.ca
SUMMARY:Folklorama - Scandinavian Pavilion
DESCRIPTION:VELKOMMEN\, VALKOMMEN\, VELKOMIN\, TERVETULOA! \nThe Vikings are coming! The Vikings are coming! Join us for a rollicking good time as we welcome our favourite ancestors to the stage and throughout the Pavilion. Everything you wanted to know about Vikings but were afraid to ask will be revealed in our cultural display. The usual sweet and savoury favourites from our kitchen will be available to tempt your palate. Embrace your inner Viking and join us at the Scandinavian Pavilion! \nCost: $7.50 per ticket (plus applicable service fee)\nTICKETS Folklorama – Scandinavian Pavilion \n\nSHOW TIMES \n\n\n\n\nSUN\n\n\n6:45pm\n\n\n8:15pm\n\n\n\n\n\nMON\n\n\n6:45pm\n\n\n8:15pm\n\n\n\n\n\nTUE\n\n\n6:45pm\n\n\n8:15pm\n\n\n9:45pm\n\n\n\n\nWED\n\n\n6:45pm\n\n\n8:15pm\n\n\n9:45pm\n\n\n\n\nTHU\n\n\n6:45pm\n\n\n8:15pm\n\n\n9:45pm\n\n\n\n\nFRI\n\n\n6:45pm\n\n\n8:15pm\n\n\n9:45pm\n\n\n\n\nSAT\n\n\n6:45pm\n\n\n8:15pm\n\n\n9:45pm
URL:https://www.westendbiz.ca/events/folklorama-scandinavian-pavilion-2/2024-08-06/
LOCATION:Scandinavian Cultural Centre\, 764 Erin Street\, Winnipeg\, Manitoba\, R3G 2W4\, Canada
CATEGORIES:Special Tours
ATTACH;FMTTYPE=image/png:https://www.westendbiz.ca/wp-content/uploads/2024/07/Scandinavian-Pavilion-800x600-2.png
END:VEVENT
BEGIN:VEVENT
DTSTART;TZID=America/Winnipeg:20240805T180000
DTEND;TZID=America/Winnipeg:20240805T230000
DTSTAMP:20260424T190517
CREATED:20240730T160221Z
LAST-MODIFIED:20240730T160223Z
UID:10005256-1722880800-1722898800@www.westendbiz.ca
SUMMARY:Folklorama - Scandinavian Pavilion
DESCRIPTION:VELKOMMEN\, VALKOMMEN\, VELKOMIN\, TERVETULOA! \nThe Vikings are coming! The Vikings are coming! Join us for a rollicking good time as we welcome our favourite ancestors to the stage and throughout the Pavilion. Everything you wanted to know about Vikings but were afraid to ask will be revealed in our cultural display. The usual sweet and savoury favourites from our kitchen will be available to tempt your palate. Embrace your inner Viking and join us at the Scandinavian Pavilion! \nCost: $7.50 per ticket (plus applicable service fee)\nTICKETS Folklorama – Scandinavian Pavilion \n\nSHOW TIMES \n\n\n\n\nSUN\n\n\n6:45pm\n\n\n8:15pm\n\n\n\n\n\nMON\n\n\n6:45pm\n\n\n8:15pm\n\n\n\n\n\nTUE\n\n\n6:45pm\n\n\n8:15pm\n\n\n9:45pm\n\n\n\n\nWED\n\n\n6:45pm\n\n\n8:15pm\n\n\n9:45pm\n\n\n\n\nTHU\n\n\n6:45pm\n\n\n8:15pm\n\n\n9:45pm\n\n\n\n\nFRI\n\n\n6:45pm\n\n\n8:15pm\n\n\n9:45pm\n\n\n\n\nSAT\n\n\n6:45pm\n\n\n8:15pm\n\n\n9:45pm
URL:https://www.westendbiz.ca/events/folklorama-scandinavian-pavilion-2/2024-08-05/
LOCATION:Scandinavian Cultural Centre\, 764 Erin Street\, Winnipeg\, Manitoba\, R3G 2W4\, Canada
CATEGORIES:Special Tours
ATTACH;FMTTYPE=image/png:https://www.westendbiz.ca/wp-content/uploads/2024/07/Scandinavian-Pavilion-800x600-2.png
END:VEVENT
BEGIN:VEVENT
DTSTART;TZID=America/Winnipeg:20240804T180000
DTEND;TZID=America/Winnipeg:20240804T230000
DTSTAMP:20260424T190517
CREATED:20240730T160221Z
LAST-MODIFIED:20240730T160223Z
UID:10004898-1722794400-1722812400@www.westendbiz.ca
SUMMARY:Folklorama - Scandinavian Pavilion
DESCRIPTION:VELKOMMEN\, VALKOMMEN\, VELKOMIN\, TERVETULOA! \nThe Vikings are coming! The Vikings are coming! Join us for a rollicking good time as we welcome our favourite ancestors to the stage and throughout the Pavilion. Everything you wanted to know about Vikings but were afraid to ask will be revealed in our cultural display. The usual sweet and savoury favourites from our kitchen will be available to tempt your palate. Embrace your inner Viking and join us at the Scandinavian Pavilion! \nCost: $7.50 per ticket (plus applicable service fee)\nTICKETS Folklorama – Scandinavian Pavilion \n\nSHOW TIMES \n\n\n\n\nSUN\n\n\n6:45pm\n\n\n8:15pm\n\n\n\n\n\nMON\n\n\n6:45pm\n\n\n8:15pm\n\n\n\n\n\nTUE\n\n\n6:45pm\n\n\n8:15pm\n\n\n9:45pm\n\n\n\n\nWED\n\n\n6:45pm\n\n\n8:15pm\n\n\n9:45pm\n\n\n\n\nTHU\n\n\n6:45pm\n\n\n8:15pm\n\n\n9:45pm\n\n\n\n\nFRI\n\n\n6:45pm\n\n\n8:15pm\n\n\n9:45pm\n\n\n\n\nSAT\n\n\n6:45pm\n\n\n8:15pm\n\n\n9:45pm
URL:https://www.westendbiz.ca/events/folklorama-scandinavian-pavilion-2/2024-08-04/
LOCATION:Scandinavian Cultural Centre\, 764 Erin Street\, Winnipeg\, Manitoba\, R3G 2W4\, Canada
CATEGORIES:Special Tours
ATTACH;FMTTYPE=image/png:https://www.westendbiz.ca/wp-content/uploads/2024/07/Scandinavian-Pavilion-800x600-2.png
END:VEVENT
BEGIN:VEVENT
DTSTART;TZID=America/Winnipeg:20240303T103000
DTEND;TZID=America/Winnipeg:20240303T130000
DTSTAMP:20260424T190517
CREATED:20240130T194038Z
LAST-MODIFIED:20240130T194038Z
UID:10004118-1709461800-1709470800@www.westendbiz.ca
SUMMARY:Sunday Brunches
DESCRIPTION:Prepared by Chef Michael\, owner of Bonne Cuisine! https://www.bonnecuisinebymichael.ca/ \nScandinavian Centre’s Sunday brunches\, occur every Sunday from 10:30 a.m. to 1 p.m. Reservations are necessary and need to be placed by Friday at 12PM (no late reservations or walk-ins accepted at this time) \nMake reservations by emailing sccreservations@shaw.ca\, Or make your online reservations https://www.scandinaviancentre.ca/make-your-reservations (Please include the date of event\, your name\, phone number & number of adults/children attending). \nThe Sunday brunches format is the traditional buffet style service. Selections vary each week with a cold buffet that includes fresh fruit\, variety of salads and cold plates\, fresh bread and hot buffet with crisp bacon\, sausages\, potato and egg dishes\, finished with a variety of sweet Scandinavian baked treats. The specific dishes are prepared based on what is locally available and fresh. \nAdults $18/each\, Children $9/each (aged 8-12 years) and Children ages 7 & under FREE. \n2024 WINTER BRUNCH CALENDAR\nFebruary 4th: Icelandic Canadian Fron \nFebruary 11th: Norwegian Canadian Club \nFebruary 18th: Swedish Cultural Association \nFebruary 25th: Danish Canadian Club \nMarch 3rd: Finnish Canadian Club
URL:https://www.westendbiz.ca/events/sunday-brunches/2024-03-03/
LOCATION:Scandinavian Cultural Centre\, 764 Erin Street\, Winnipeg\, Manitoba\, R3G 2W4\, Canada
ATTACH;FMTTYPE=image/png:https://www.westendbiz.ca/wp-content/uploads/2024/01/scandanavian-brunch.png
END:VEVENT
BEGIN:VEVENT
DTSTART;TZID=America/Winnipeg:20240225T103000
DTEND;TZID=America/Winnipeg:20240225T130000
DTSTAMP:20260424T190517
CREATED:20240130T194038Z
LAST-MODIFIED:20240130T194038Z
UID:10004117-1708857000-1708866000@www.westendbiz.ca
SUMMARY:Sunday Brunches
DESCRIPTION:Prepared by Chef Michael\, owner of Bonne Cuisine! https://www.bonnecuisinebymichael.ca/ \nScandinavian Centre’s Sunday brunches\, occur every Sunday from 10:30 a.m. to 1 p.m. Reservations are necessary and need to be placed by Friday at 12PM (no late reservations or walk-ins accepted at this time) \nMake reservations by emailing sccreservations@shaw.ca\, Or make your online reservations https://www.scandinaviancentre.ca/make-your-reservations (Please include the date of event\, your name\, phone number & number of adults/children attending). \nThe Sunday brunches format is the traditional buffet style service. Selections vary each week with a cold buffet that includes fresh fruit\, variety of salads and cold plates\, fresh bread and hot buffet with crisp bacon\, sausages\, potato and egg dishes\, finished with a variety of sweet Scandinavian baked treats. The specific dishes are prepared based on what is locally available and fresh. \nAdults $18/each\, Children $9/each (aged 8-12 years) and Children ages 7 & under FREE. \n2024 WINTER BRUNCH CALENDAR\nFebruary 4th: Icelandic Canadian Fron \nFebruary 11th: Norwegian Canadian Club \nFebruary 18th: Swedish Cultural Association \nFebruary 25th: Danish Canadian Club \nMarch 3rd: Finnish Canadian Club
URL:https://www.westendbiz.ca/events/sunday-brunches/2024-02-25/
LOCATION:Scandinavian Cultural Centre\, 764 Erin Street\, Winnipeg\, Manitoba\, R3G 2W4\, Canada
ATTACH;FMTTYPE=image/png:https://www.westendbiz.ca/wp-content/uploads/2024/01/scandanavian-brunch.png
END:VEVENT
BEGIN:VEVENT
DTSTART;TZID=America/Winnipeg:20240218T103000
DTEND;TZID=America/Winnipeg:20240218T130000
DTSTAMP:20260424T190517
CREATED:20240130T194038Z
LAST-MODIFIED:20240130T194038Z
UID:10004116-1708252200-1708261200@www.westendbiz.ca
SUMMARY:Sunday Brunches
DESCRIPTION:Prepared by Chef Michael\, owner of Bonne Cuisine! https://www.bonnecuisinebymichael.ca/ \nScandinavian Centre’s Sunday brunches\, occur every Sunday from 10:30 a.m. to 1 p.m. Reservations are necessary and need to be placed by Friday at 12PM (no late reservations or walk-ins accepted at this time) \nMake reservations by emailing sccreservations@shaw.ca\, Or make your online reservations https://www.scandinaviancentre.ca/make-your-reservations (Please include the date of event\, your name\, phone number & number of adults/children attending). \nThe Sunday brunches format is the traditional buffet style service. Selections vary each week with a cold buffet that includes fresh fruit\, variety of salads and cold plates\, fresh bread and hot buffet with crisp bacon\, sausages\, potato and egg dishes\, finished with a variety of sweet Scandinavian baked treats. The specific dishes are prepared based on what is locally available and fresh. \nAdults $18/each\, Children $9/each (aged 8-12 years) and Children ages 7 & under FREE. \n2024 WINTER BRUNCH CALENDAR\nFebruary 4th: Icelandic Canadian Fron \nFebruary 11th: Norwegian Canadian Club \nFebruary 18th: Swedish Cultural Association \nFebruary 25th: Danish Canadian Club \nMarch 3rd: Finnish Canadian Club
URL:https://www.westendbiz.ca/events/sunday-brunches/2024-02-18/
LOCATION:Scandinavian Cultural Centre\, 764 Erin Street\, Winnipeg\, Manitoba\, R3G 2W4\, Canada
ATTACH;FMTTYPE=image/png:https://www.westendbiz.ca/wp-content/uploads/2024/01/scandanavian-brunch.png
END:VEVENT
BEGIN:VEVENT
DTSTART;TZID=America/Winnipeg:20240211T103000
DTEND;TZID=America/Winnipeg:20240211T130000
DTSTAMP:20260424T190517
CREATED:20240130T194038Z
LAST-MODIFIED:20240130T194038Z
UID:10004115-1707647400-1707656400@www.westendbiz.ca
SUMMARY:Sunday Brunches
DESCRIPTION:Prepared by Chef Michael\, owner of Bonne Cuisine! https://www.bonnecuisinebymichael.ca/ \nScandinavian Centre’s Sunday brunches\, occur every Sunday from 10:30 a.m. to 1 p.m. Reservations are necessary and need to be placed by Friday at 12PM (no late reservations or walk-ins accepted at this time) \nMake reservations by emailing sccreservations@shaw.ca\, Or make your online reservations https://www.scandinaviancentre.ca/make-your-reservations (Please include the date of event\, your name\, phone number & number of adults/children attending). \nThe Sunday brunches format is the traditional buffet style service. Selections vary each week with a cold buffet that includes fresh fruit\, variety of salads and cold plates\, fresh bread and hot buffet with crisp bacon\, sausages\, potato and egg dishes\, finished with a variety of sweet Scandinavian baked treats. The specific dishes are prepared based on what is locally available and fresh. \nAdults $18/each\, Children $9/each (aged 8-12 years) and Children ages 7 & under FREE. \n2024 WINTER BRUNCH CALENDAR\nFebruary 4th: Icelandic Canadian Fron \nFebruary 11th: Norwegian Canadian Club \nFebruary 18th: Swedish Cultural Association \nFebruary 25th: Danish Canadian Club \nMarch 3rd: Finnish Canadian Club
URL:https://www.westendbiz.ca/events/sunday-brunches/2024-02-11/
LOCATION:Scandinavian Cultural Centre\, 764 Erin Street\, Winnipeg\, Manitoba\, R3G 2W4\, Canada
ATTACH;FMTTYPE=image/png:https://www.westendbiz.ca/wp-content/uploads/2024/01/scandanavian-brunch.png
END:VEVENT
BEGIN:VEVENT
DTSTART;TZID=America/Winnipeg:20240204T103000
DTEND;TZID=America/Winnipeg:20240204T130000
DTSTAMP:20260424T190518
CREATED:20240130T194038Z
LAST-MODIFIED:20240130T194038Z
UID:10004114-1707042600-1707051600@www.westendbiz.ca
SUMMARY:Sunday Brunches
DESCRIPTION:Prepared by Chef Michael\, owner of Bonne Cuisine! https://www.bonnecuisinebymichael.ca/ \nScandinavian Centre’s Sunday brunches\, occur every Sunday from 10:30 a.m. to 1 p.m. Reservations are necessary and need to be placed by Friday at 12PM (no late reservations or walk-ins accepted at this time) \nMake reservations by emailing sccreservations@shaw.ca\, Or make your online reservations https://www.scandinaviancentre.ca/make-your-reservations (Please include the date of event\, your name\, phone number & number of adults/children attending). \nThe Sunday brunches format is the traditional buffet style service. Selections vary each week with a cold buffet that includes fresh fruit\, variety of salads and cold plates\, fresh bread and hot buffet with crisp bacon\, sausages\, potato and egg dishes\, finished with a variety of sweet Scandinavian baked treats. The specific dishes are prepared based on what is locally available and fresh. \nAdults $18/each\, Children $9/each (aged 8-12 years) and Children ages 7 & under FREE. \n2024 WINTER BRUNCH CALENDAR\nFebruary 4th: Icelandic Canadian Fron \nFebruary 11th: Norwegian Canadian Club \nFebruary 18th: Swedish Cultural Association \nFebruary 25th: Danish Canadian Club \nMarch 3rd: Finnish Canadian Club
URL:https://www.westendbiz.ca/events/sunday-brunches/2024-02-04/
LOCATION:Scandinavian Cultural Centre\, 764 Erin Street\, Winnipeg\, Manitoba\, R3G 2W4\, Canada
ATTACH;FMTTYPE=image/png:https://www.westendbiz.ca/wp-content/uploads/2024/01/scandanavian-brunch.png
END:VEVENT
END:VCALENDAR