BEGIN:VCALENDAR
VERSION:2.0
PRODID:-//Winnipeg West End BIZ - ECPv6.15.20//NONSGML v1.0//EN
CALSCALE:GREGORIAN
METHOD:PUBLISH
X-ORIGINAL-URL:https://www.westendbiz.ca
X-WR-CALDESC:Events for Winnipeg West End BIZ
REFRESH-INTERVAL;VALUE=DURATION:PT1H
X-Robots-Tag:noindex
X-PUBLISHED-TTL:PT1H
BEGIN:VTIMEZONE
TZID:America/Winnipeg
BEGIN:DAYLIGHT
TZOFFSETFROM:-0600
TZOFFSETTO:-0500
TZNAME:CDT
DTSTART:20230312T080000
END:DAYLIGHT
BEGIN:STANDARD
TZOFFSETFROM:-0500
TZOFFSETTO:-0600
TZNAME:CST
DTSTART:20231105T070000
END:STANDARD
BEGIN:DAYLIGHT
TZOFFSETFROM:-0600
TZOFFSETTO:-0500
TZNAME:CDT
DTSTART:20240310T080000
END:DAYLIGHT
BEGIN:STANDARD
TZOFFSETFROM:-0500
TZOFFSETTO:-0600
TZNAME:CST
DTSTART:20241103T070000
END:STANDARD
BEGIN:DAYLIGHT
TZOFFSETFROM:-0600
TZOFFSETTO:-0500
TZNAME:CDT
DTSTART:20250309T080000
END:DAYLIGHT
BEGIN:STANDARD
TZOFFSETFROM:-0500
TZOFFSETTO:-0600
TZNAME:CST
DTSTART:20251102T070000
END:STANDARD
END:VTIMEZONE
BEGIN:VEVENT
DTSTART;TZID=America/Winnipeg:20240617T080000
DTEND;TZID=America/Winnipeg:20240617T170000
DTSTAMP:20260425T085339
CREATED:20240617T175218Z
LAST-MODIFIED:20240617T175218Z
UID:10004828-1718611200-1718643600@www.westendbiz.ca
SUMMARY:Latte Art
DESCRIPTION:It’s about to go down —>  at Seven Café\nSeven Cafe is hosting their second LATTÉ ART THROWDOWN! Dm them on Instagram to enter! Tag your friends to let them know! \nSeven Café (@_seven_cafe_) • Instagram photos and videos
URL:https://www.westendbiz.ca/events/latte-art/
LOCATION:seven cafe\, 745 Wall St\, winnipeg\, Manitoba\, R3G 2T6\, Canada
CATEGORIES:Free Events
ATTACH;FMTTYPE=image/png:https://www.westendbiz.ca/wp-content/uploads/2024/06/latte-art.png
END:VEVENT
END:VCALENDAR