BEGIN:VCALENDAR
VERSION:2.0
PRODID:-//Winnipeg West End BIZ - ECPv6.15.20//NONSGML v1.0//EN
CALSCALE:GREGORIAN
METHOD:PUBLISH
X-ORIGINAL-URL:https://www.westendbiz.ca
X-WR-CALDESC:Events for Winnipeg West End BIZ
REFRESH-INTERVAL;VALUE=DURATION:PT1H
X-Robots-Tag:noindex
X-PUBLISHED-TTL:PT1H
BEGIN:VTIMEZONE
TZID:America/Winnipeg
BEGIN:DAYLIGHT
TZOFFSETFROM:-0600
TZOFFSETTO:-0500
TZNAME:CDT
DTSTART:20230312T080000
END:DAYLIGHT
BEGIN:STANDARD
TZOFFSETFROM:-0500
TZOFFSETTO:-0600
TZNAME:CST
DTSTART:20231105T070000
END:STANDARD
BEGIN:DAYLIGHT
TZOFFSETFROM:-0600
TZOFFSETTO:-0500
TZNAME:CDT
DTSTART:20240310T080000
END:DAYLIGHT
BEGIN:STANDARD
TZOFFSETFROM:-0500
TZOFFSETTO:-0600
TZNAME:CST
DTSTART:20241103T070000
END:STANDARD
BEGIN:DAYLIGHT
TZOFFSETFROM:-0600
TZOFFSETTO:-0500
TZNAME:CDT
DTSTART:20250309T080000
END:DAYLIGHT
BEGIN:STANDARD
TZOFFSETFROM:-0500
TZOFFSETTO:-0600
TZNAME:CST
DTSTART:20251102T070000
END:STANDARD
END:VTIMEZONE
BEGIN:VEVENT
DTSTART;TZID=America/Winnipeg:20240419T190000
DTEND;TZID=America/Winnipeg:20240419T220000
DTSTAMP:20260425T080308
CREATED:20240412T155138Z
LAST-MODIFIED:20240412T155820Z
UID:10004266-1713553200-1713564000@www.westendbiz.ca
SUMMARY:Larry Saves The Canadian Healthcare System
DESCRIPTION:Please join us as we present to the public\, for the first time\, this Manitoba-created movie musical that has been a YouTube sensation\, with 78\,000+ views!) WIth music\, lyrics & screenplay by Sara Kreindler\, directed by Ann Hodges\, and a cast of all your favourite Winnipeg actors\, you will be overwhelmed by the depth of local talent up on our big screen. \nThe show will be preceded with an introduction by Dr. Kreindler\, and will be followed by a panel discussion with Dr. Kreindler\,  Ms. Hodges\, actress Colleen Furlan\, and Emergency physician Alecs Chochinov. \n\n\n\n\n\n\n\n\n\n\n\nAbout the show:\nThis satirical romp through the healthcare bureaucracy follows an idealistic young policy analyst who dreams of achieving change from within – only to be foiled at every turn. \nOn his quest to find a cure for ER crowding\, Larry encounters poorly designed structures\, misconceived improvement projects\, managerial stonewalling\, political posturing\, and the ghost of Tommy Douglas. Can Larry save the system? \nFast-paced\, irreverent\, and chock full of nutritious evidence! \nFriday\, April 19 & Saturday\, April 20 \nDoors open at 7:00 pm\nShow Starts at 8:00 pm \nPre-Show Introduction:\nSara Kreindler \nPost-Show Panel Discussion:\nSara Kreindler (Writer / Composer)\nAnn Hodges (Director)\nColleen Furlan (Actress)\nAlecs Chochinov (Emergency Doctor) \n\nTICKETS FREE WITH REGISTRATION Larry Saves The Canadian Healthcare System — The Gargoyle Theatre
URL:https://www.westendbiz.ca/events/larry-saves-the-canadian-healthcare-system/2024-04-19/
LOCATION:The Gargoyle Theatre\, 585 Ellice Ave\, Winnipeg\, Manitoba\, R3B 1Z7\, Canada
CATEGORIES:Free Events
ATTACH;FMTTYPE=image/jpeg:https://www.westendbiz.ca/wp-content/uploads/2024/04/LarryCDcover.jpg
END:VEVENT
END:VCALENDAR