BEGIN:VCALENDAR
VERSION:2.0
PRODID:-//Winnipeg West End BIZ - ECPv6.15.20//NONSGML v1.0//EN
CALSCALE:GREGORIAN
METHOD:PUBLISH
X-WR-CALNAME:Winnipeg West End BIZ
X-ORIGINAL-URL:https://www.westendbiz.ca
X-WR-CALDESC:Events for Winnipeg West End BIZ
REFRESH-INTERVAL;VALUE=DURATION:PT1H
X-Robots-Tag:noindex
X-PUBLISHED-TTL:PT1H
BEGIN:VTIMEZONE
TZID:America/Winnipeg
BEGIN:DAYLIGHT
TZOFFSETFROM:-0600
TZOFFSETTO:-0500
TZNAME:CDT
DTSTART:20210314T080000
END:DAYLIGHT
BEGIN:STANDARD
TZOFFSETFROM:-0500
TZOFFSETTO:-0600
TZNAME:CST
DTSTART:20211107T070000
END:STANDARD
BEGIN:DAYLIGHT
TZOFFSETFROM:-0600
TZOFFSETTO:-0500
TZNAME:CDT
DTSTART:20220313T080000
END:DAYLIGHT
BEGIN:STANDARD
TZOFFSETFROM:-0500
TZOFFSETTO:-0600
TZNAME:CST
DTSTART:20221106T070000
END:STANDARD
BEGIN:DAYLIGHT
TZOFFSETFROM:-0600
TZOFFSETTO:-0500
TZNAME:CDT
DTSTART:20230312T080000
END:DAYLIGHT
BEGIN:STANDARD
TZOFFSETFROM:-0500
TZOFFSETTO:-0600
TZNAME:CST
DTSTART:20231105T070000
END:STANDARD
END:VTIMEZONE
BEGIN:VEVENT
DTSTART;TZID=America/Winnipeg:20220622T114500
DTEND;TZID=America/Winnipeg:20220622T130000
DTSTAMP:20260425T204126
CREATED:20220610T142416Z
LAST-MODIFIED:20220610T142416Z
UID:10003326-1655898300-1655902800@www.westendbiz.ca
SUMMARY:Community Celebration
DESCRIPTION:On Wednesday\, June 22 grab your family and friends and head to True North Square (242 Hargrave St.) for an exciting community celebration hosted by Ace Burpee! From 11:45 AM – 1:00 PM\, you will be able to snap a photo with Dr. Goodbear\, enjoy live music\, and be the first to hear a landmark announcement from leaders in our community about the future of child health\, and how you can be part of giving kids better futures.
URL:https://www.westendbiz.ca/events/community-celebration/
LOCATION:True North Square\, 242 Hargrave St.\, Winnipeg\, Manitoba\, Canada
CATEGORIES:Free Events
ATTACH;FMTTYPE=image/jpeg:https://www.westendbiz.ca/wp-content/uploads/2022/06/MicrosoftTeams-image-9.jpg
END:VEVENT
END:VCALENDAR